BEGIN:VCALENDAR
VERSION:2.0
PRODID:SchoolNow
CALSCALE:GREGORIAN
BEGIN:VEVENT
UID:26b1e2c2-1c30-11ee-b38e-0a0dffa2a585
DTSTAMP:20240227T224101Z
SUMMARY:Board Policy Committee meeting (4/9)
LOCATION:Harriet Gibbons Student Services Center\, 75 Watervliet Ave.
URL;VALUE=URI:https://www.albanyschools.org/boe/calendar/4475510/board-poli
 cy-committee-meeting-4-9
DTSTART:20240409T213000Z
DTEND:20240409T233000Z
END:VEVENT
END:VCALENDAR
