BEGIN:VCALENDAR
VERSION:2.0
PRODID:SchoolNow
CALSCALE:GREGORIAN
BEGIN:VEVENT
UID:26b1f230-1c30-11ee-912a-0a0dffa2a585
DTSTAMP:20230706T190602Z
SUMMARY:Board Government Relations Committee meeting (7/26)
LOCATION:Harriet Gibbons Student Services Center\, 75 Watervliet Ave.
URL;VALUE=URI:https://www.albanyschools.org/boe/calendar/4475513/board-gove
 rnment-relations-committee-meeting-7-26
DTSTART:20230726T123000Z
DTEND:20230726T133000Z
END:VEVENT
END:VCALENDAR
