BEGIN:VCALENDAR
VERSION:2.0
PRODID:SchoolNow
CALSCALE:GREGORIAN
BEGIN:VEVENT
UID:26b1fbc2-1c30-11ee-9499-0a0dffa2a585
DTSTAMP:20230911T133436Z
SUMMARY:Board Government Relations Committee meeting (9/13)
LOCATION:Harriet Gibbons Student Services Center\, 75 Watervliet Ave.
URL;VALUE=URI:https://www.albanyschools.org/boe/calendar/4475515/board-gove
 rnment-relations-committee-meeting-9-13
DTSTART:20230913T123000Z
DTEND:20230913T133000Z
END:VEVENT
END:VCALENDAR
