BEGIN:VCALENDAR
VERSION:2.0
PRODID:SchoolNow
CALSCALE:GREGORIAN
BEGIN:VEVENT
UID:26b1ffb4-1c30-11ee-ab5c-0a0dffa2a585
DTSTAMP:20240602T233643Z
SUMMARY:Board Government Relations Committee meeting (6/3)
LOCATION:Harriet Gibbons Student Services Center\, 75 Watervliet Ave.
URL;VALUE=URI:https://www.albanyschools.org/boe/calendar/4475516/board-gove
 rnment-relations-committee-meeting-6-3
DTSTART:20240603T124500Z
DTEND:20240603T134500Z
END:VEVENT
END:VCALENDAR
