BEGIN:VCALENDAR
VERSION:2.0
PRODID:SchoolNow
CALSCALE:GREGORIAN
BEGIN:VEVENT
UID:26b203a6-1c30-11ee-92ac-0a0dffa2a585
DTSTAMP:20230706T190602Z
SUMMARY:Board Facilities Committee meeting (7/11)
LOCATION:Harriet Gibbons Student Services Center\, 75 Watervliet Ave.
URL;VALUE=URI:https://www.albanyschools.org/boe/calendar/4475517/board-faci
 lities-committee-meeting-7-11
DTSTART:20230711T213000Z
DTEND:20230711T233000Z
END:VEVENT
END:VCALENDAR
