BEGIN:VCALENDAR
VERSION:2.0
PRODID:SchoolNow
CALSCALE:GREGORIAN
BEGIN:VEVENT
UID:26b207de-1c30-11ee-8a0f-0a0dffa2a585
DTSTAMP:20230724T131128Z
SUMMARY:Board Facilities Committee meeting (8/8)
LOCATION:Harriet Gibbons Student Services Center\, 75 Watervliet Ave.
URL;VALUE=URI:https://www.albanyschools.org/boe/calendar/4475518/board-faci
 lities-committee-meeting-8-8
DTSTART:20230808T214500Z
DTEND:20230808T234500Z
END:VEVENT
END:VCALENDAR
