BEGIN:VCALENDAR
VERSION:2.0
PRODID:SchoolNow
CALSCALE:GREGORIAN
BEGIN:VEVENT
UID:26b20bd0-1c30-11ee-a481-0a0dffa2a585
DTSTAMP:20230724T131142Z
SUMMARY:Board Facilities Committee meeting (9/12)
LOCATION:Harriet Gibbons Student Services Center\, 75 Watervliet Ave.
URL;VALUE=URI:https://www.albanyschools.org/boe/calendar/4475519/board-faci
 lities-committee-meeting-9-12
DTSTART:20230912T214500Z
DTEND:20230912T234500Z
END:VEVENT
END:VCALENDAR
