BEGIN:VCALENDAR
VERSION:2.0
PRODID:SchoolNow
CALSCALE:GREGORIAN
BEGIN:VEVENT
UID:26b20fb8-1c30-11ee-938a-0a0dffa2a585
DTSTAMP:20230724T131148Z
SUMMARY:Board Facilities Committee meeting (10/10)
LOCATION:Harriet Gibbons Student Services Center\, 75 Watervliet Ave.
URL;VALUE=URI:https://www.albanyschools.org/boe/calendar/4475520/board-faci
 lities-committee-meeting-10-10
DTSTART:20231010T214500Z
DTEND:20231010T234500Z
END:VEVENT
END:VCALENDAR
