BEGIN:VCALENDAR
VERSION:2.0
PRODID:SchoolNow
CALSCALE:GREGORIAN
BEGIN:VEVENT
UID:26b213dc-1c30-11ee-af95-0a0dffa2a585
DTSTAMP:20230724T131157Z
SUMMARY:Board Facilities Committee meeting (11/14)
LOCATION:Harriet Gibbons Student Services Center\, 75 Watervliet Ave.
URL;VALUE=URI:https://www.albanyschools.org/boe/calendar/4475521/board-faci
 lities-committee-meeting-11-14
DTSTART:20231114T224500Z
DTEND:20231115T004500Z
END:VEVENT
END:VCALENDAR
