BEGIN:VCALENDAR
VERSION:2.0
PRODID:SchoolNow
CALSCALE:GREGORIAN
BEGIN:VEVENT
UID:26b217c4-1c30-11ee-b5ae-0a0dffa2a585
DTSTAMP:20230724T131203Z
SUMMARY:Board Facilities Committee meeting (12/12)
LOCATION:Harriet Gibbons Student Services Center\, 75 Watervliet Ave.
URL;VALUE=URI:https://www.albanyschools.org/boe/calendar/4475522/board-faci
 lities-committee-meeting-12-12
DTSTART:20231212T224500Z
DTEND:20231213T004500Z
END:VEVENT
END:VCALENDAR
