BEGIN:VCALENDAR
VERSION:2.0
PRODID:SchoolNow
CALSCALE:GREGORIAN
BEGIN:VEVENT
UID:26b21bfc-1c30-11ee-8665-0a0dffa2a585
DTSTAMP:20230724T131209Z
SUMMARY:Board Facilities Committee meeting (1/9)
LOCATION:Harriet Gibbons Student Services Center\, 75 Watervliet Ave.
URL;VALUE=URI:https://www.albanyschools.org/boe/calendar/4475523/board-faci
 lities-committee-meeting-1-9
DTSTART:20240109T224500Z
DTEND:20240110T004500Z
END:VEVENT
END:VCALENDAR
