BEGIN:VCALENDAR
VERSION:2.0
PRODID:SchoolNow
CALSCALE:GREGORIAN
BEGIN:VEVENT
UID:26b21fee-1c30-11ee-9adf-0a0dffa2a585
DTSTAMP:20230724T131215Z
SUMMARY:Board Facilities Committee meeting (2/13)
LOCATION:Harriet Gibbons Student Services Center\, 75 Watervliet Ave.
URL;VALUE=URI:https://www.albanyschools.org/boe/calendar/4475524/board-faci
 lities-committee-meeting-2-13
DTSTART:20240213T224500Z
DTEND:20240214T004500Z
END:VEVENT
END:VCALENDAR
