BEGIN:VCALENDAR
VERSION:2.0
PRODID:SchoolNow
CALSCALE:GREGORIAN
BEGIN:VEVENT
UID:26b2244e-1c30-11ee-be37-0a0dffa2a585
DTSTAMP:20240207T194901Z
SUMMARY:Board Facilities Committee meeting (3/6)
LOCATION:Harriet Gibbons Student Services Center\, 75 Watervliet Ave.
URL;VALUE=URI:https://www.albanyschools.org/boe/calendar/4475525/board-faci
 lities-committee-meeting-3-6
DTSTART:20240306T224500Z
DTEND:20240307T004500Z
END:VEVENT
END:VCALENDAR
