BEGIN:VCALENDAR
VERSION:2.0
PRODID:SchoolNow
CALSCALE:GREGORIAN
BEGIN:VEVENT
UID:26b2284a-1c30-11ee-9c55-0a0dffa2a585
DTSTAMP:20240306T201007Z
SUMMARY:Board Facilities Committee meeting (4/9)
LOCATION:Harriet Gibbons Student Services Center\, 75 Watervliet Ave.
URL;VALUE=URI:https://www.albanyschools.org/boe/calendar/4475526/board-faci
 lities-committee-meeting-4-9
DTSTART:20240409T214500Z
DTEND:20240409T234500Z
END:VEVENT
END:VCALENDAR
