BEGIN:VCALENDAR
VERSION:2.0
PRODID:SchoolNow
CALSCALE:GREGORIAN
BEGIN:VEVENT
UID:26b23024-1c30-11ee-ad2c-0a0dffa2a585
DTSTAMP:20230724T131241Z
SUMMARY:Board Facilities Committee meeting (6/11)
LOCATION:Harriet Gibbons Student Services Center\, 75 Watervliet Ave.
URL;VALUE=URI:https://www.albanyschools.org/boe/calendar/4475528/board-faci
 lities-committee-meeting-6-11
DTSTART:20240611T214500Z
DTEND:20240611T234500Z
END:VEVENT
END:VCALENDAR
