BEGIN:VCALENDAR
VERSION:2.0
PRODID:SchoolNow
CALSCALE:GREGORIAN
BEGIN:VEVENT
UID:26b23448-1c30-11ee-8db9-0a0dffa2a585
DTSTAMP:20230706T190602Z
SUMMARY:Board Ad Hoc Team Operations Manual Committee meeting (8/1)
LOCATION:Harriet Gibbons Student Services Center\, 75 Watervliet Ave.
URL;VALUE=URI:https://www.albanyschools.org/boe/calendar/4475529/board-ad-h
 oc-team-operations-manual-committee-meeting-8-1
DTSTART:20230801T213000Z
DTEND:20230801T233000Z
END:VEVENT
END:VCALENDAR
