BEGIN:VCALENDAR
VERSION:2.0
PRODID:SchoolNow
CALSCALE:GREGORIAN
BEGIN:VEVENT
UID:26b2386c-1c30-11ee-a592-0a0dffa2a585
DTSTAMP:20230905T125110Z
SUMMARY:Board Ad Hoc Team Operations Manual Committee meeting (9/27)
LOCATION:Harriet Gibbons Student Services Center\, 75 Watervliet Ave.
URL;VALUE=URI:https://www.albanyschools.org/boe/calendar/4475530/board-ad-h
 oc-team-operations-manual-committee-meeting-9-6
DTSTART:20230927T213000Z
DTEND:20230927T233000Z
END:VEVENT
END:VCALENDAR
