BEGIN:VCALENDAR
VERSION:2.0
PRODID:SchoolNow
CALSCALE:GREGORIAN
BEGIN:VEVENT
UID:26b23c68-1c30-11ee-b695-0a0dffa2a585
DTSTAMP:20230905T125131Z
SUMMARY:Board Ad Hoc Team Operations Manual Committee meeting (10/25)
LOCATION:Harriet Gibbons Student Services Center\, 75 Watervliet Ave.
URL;VALUE=URI:https://www.albanyschools.org/boe/calendar/4475531/board-ad-h
 oc-team-operations-manual-committee-meeting-10-4
DTSTART:20231025T213000Z
DTEND:20231025T233000Z
END:VEVENT
END:VCALENDAR
