BEGIN:VCALENDAR
VERSION:2.0
PRODID:SchoolNow
CALSCALE:GREGORIAN
BEGIN:VEVENT
UID:26ac5eba-2a4f-11ee-ab86-02929c8777df
DTSTAMP:20230724T182313Z
SUMMARY:Board Audit/Finance Committee meeting (9/25)
LOCATION:Harriet Gibbons Student Services Center\, 75 Watervliet Ave.
URL;VALUE=URI:https://www.albanyschools.org/boe/calendar/4519045/board-audi
 t-finance-committee-meeting-9-25
DTSTART:20230925T213000Z
DTEND:20230925T233000Z
END:VEVENT
END:VCALENDAR
