BEGIN:VCALENDAR
VERSION:2.0
PRODID:SchoolNow
CALSCALE:GREGORIAN
BEGIN:VEVENT
UID:34064206-2a4f-11ee-badb-0ebd7a7d4b03
DTSTAMP:20230724T182335Z
SUMMARY:Board Audit/Finance Committee meeting (11/6)
LOCATION:Harriet Gibbons Student Services Center\, 75 Watervliet Ave.
URL;VALUE=URI:https://www.albanyschools.org/boe/calendar/4519046/board-audi
 t-finance-committee-meeting-11-6
DTSTART:20231106T223000Z
DTEND:20231107T003000Z
END:VEVENT
END:VCALENDAR
