BEGIN:VCALENDAR
VERSION:2.0
PRODID:SchoolNow
CALSCALE:GREGORIAN
BEGIN:VEVENT
UID:3f5f8f18-2a4f-11ee-bad2-02929c8777df
DTSTAMP:20240122T223856Z
SUMMARY:Board Audit/Finance Committee meeting (1/29)
LOCATION:Harriet Gibbons Student Services Center\, 75 Watervliet Ave.
URL;VALUE=URI:https://www.albanyschools.org/boe/calendar/4519047/board-audi
 t-finance-committee-meeting-1-29
DTSTART:20240129T223000Z
DTEND:20240130T003000Z
END:VEVENT
END:VCALENDAR
