BEGIN:VCALENDAR
VERSION:2.0
PRODID:SchoolNow
CALSCALE:GREGORIAN
BEGIN:VEVENT
UID:48b486cc-2a4f-11ee-9853-02929c8777df
DTSTAMP:20230724T182410Z
SUMMARY:Board Audit/Finance Committee meeting (4/22)
LOCATION:Harriet Gibbons Student Services Center\, 75 Watervliet Ave.
URL;VALUE=URI:https://www.albanyschools.org/boe/calendar/4519048/board-audi
 t-finance-committee-meeting-4-22
DTSTART:20240422T213000Z
DTEND:20240422T233000Z
END:VEVENT
END:VCALENDAR
