BEGIN:VCALENDAR
VERSION:2.0
PRODID:SchoolNow
CALSCALE:GREGORIAN
BEGIN:VEVENT
UID:9d8e5482-2fa6-11ee-8b1e-0a58a9feac02
DTSTAMP:20230731T133155Z
SUMMARY:District Safety Plan Public Hearing
LOCATION:Harriet Gibbons Media Center\, 75 Watervliet Ave.
URL;VALUE=URI:https://www.albanyschools.org/boe/calendar/4534599/district-s
 afety-plan-public-hearing
DTSTART:20230824T213000Z
DTEND:20230824T223000Z
END:VEVENT
END:VCALENDAR
