BEGIN:VCALENDAR
VERSION:2.0
PRODID:SchoolNow
CALSCALE:GREGORIAN
BEGIN:VEVENT
UID:e943799c-3083-11ee-ae27-0a58a9feac02
DTSTAMP:20230802T145453Z
SUMMARY:Contract for Excellence Public Hearing
LOCATION:Harriet Gibbons Student Services Center\, 75 Watervliet Ave.
URL;VALUE=URI:https://www.albanyschools.org/boe/calendar/4537324/contract-f
 or-excellence-public-hearing
DTSTART:20230810T213000Z
DTEND:20230810T220000Z
END:VEVENT
END:VCALENDAR
