BEGIN:VCALENDAR
VERSION:2.0
PRODID:SchoolNow
CALSCALE:GREGORIAN
BEGIN:VEVENT
UID:b044368c-4739-11ee-80b9-02b65f216555
DTSTAMP:20230830T133400Z
SUMMARY:Board of Education special meeting (8/31)
LOCATION:Harriet Gibbons Student Services Center\, 75 Watervliet Ave.
URL;VALUE=URI:https://www.albanyschools.org/boe/calendar/4653587/board-of-e
 ducation-special-meeting-8-31
DTSTART:20230831T120000Z
DTEND:20230831T123000Z
END:VEVENT
END:VCALENDAR
