BEGIN:VCALENDAR
VERSION:2.0
PRODID:SchoolNow
CALSCALE:GREGORIAN
BEGIN:VEVENT
UID:013a86f6-4cfb-11ee-84c1-0a58a9feac02
DTSTAMP:20230906T211903Z
SUMMARY:Board of Education special meeting (9/11)
LOCATION:Harriet Gibbons Student Services Center\, 75 Watervliet Ave.
URL;VALUE=URI:https://www.albanyschools.org/boe/calendar/4692229/board-of-e
 ducation-special-meeting-9-11
DTSTART:20230911T220000Z
DTEND:20230911T223000Z
END:VEVENT
END:VCALENDAR
