BEGIN:VCALENDAR
VERSION:2.0
PRODID:SchoolNow
CALSCALE:GREGORIAN
BEGIN:VEVENT
UID:7ff4f068-637f-11ee-92dc-0efdf3476169
DTSTAMP:20231005T130255Z
SUMMARY:Board Government Relations Committee meeting (10/10)
LOCATION:Harriet Gibbons Student Services Center\, 75 Watervliet Ave.
URL;VALUE=URI:https://www.albanyschools.org/boe/calendar/4833203/board-gove
 rnment-relations-committee-meeting-10-10
DTSTART:20231010T123000Z
DTEND:20231010T133000Z
END:VEVENT
END:VCALENDAR
