BEGIN:VCALENDAR
VERSION:2.0
PRODID:SchoolNow
CALSCALE:GREGORIAN
BEGIN:VEVENT
UID:6d41e3e2-82ea-11ee-a5f2-0a58a9feac02
DTSTAMP:20231114T205120Z
SUMMARY:Board Ad Hoc Stained Glass Window Committee meeting (11/14)
URL;VALUE=URI:https://www.albanyschools.org/boe/calendar/4946281/board-ad-h
 oc-stained-glass-window-committee-meeting-11-14
DTSTART:20231114T223000Z
DTEND:20231115T003000Z
END:VEVENT
END:VCALENDAR
