BEGIN:VCALENDAR
VERSION:2.0
PRODID:SchoolNow
CALSCALE:GREGORIAN
BEGIN:VEVENT
UID:a9eaa5c2-98f7-11ee-9aae-0a58a9feac02
DTSTAMP:20231212T140637Z
SUMMARY:Board Audit/Finance Committee meeting (12/13)
LOCATION:Harriet Gibbons Student Services Center\, 75 Watervliet Ave.
URL;VALUE=URI:https://www.albanyschools.org/boe/calendar/4994544/board-audi
 t-finance-committee-meeting-12-13
DTSTART:20231213T220000Z
DTEND:20231214T000000Z
END:VEVENT
END:VCALENDAR
