BEGIN:VCALENDAR
VERSION:2.0
PRODID:SchoolNow
CALSCALE:GREGORIAN
BEGIN:VEVENT
UID:be88118a-9abf-11ee-b783-0e13a69bbadb
DTSTAMP:20231214T203122Z
SUMMARY:Board Audit/Finance Committee meeting (12/20)
LOCATION:Harriet Gibbons Student Services Center\, 75 Watervliet Ave.
URL;VALUE=URI:https://www.albanyschools.org/boe/calendar/5003307/board-audi
 t-finance-committee-meeting-12-20
DTSTART:20231220T223000Z
DTEND:20231221T003000Z
END:VEVENT
END:VCALENDAR
