BEGIN:VCALENDAR
VERSION:2.0
PRODID:SchoolNow
CALSCALE:GREGORIAN
BEGIN:VEVENT
UID:186f87e0-9e90-11ee-9411-0a58a9feac02
DTSTAMP:20240103T173222Z
SUMMARY:Public Board of Education meeting (1/4)
DESCRIPTION:Anticipated executive session at 5:30 p.m.
LOCATION:Harriet Gibbons Student Services Center\, 75 Watervliet Ave.
URL;VALUE=URI:https://www.albanyschools.org/boe/calendar/5026704/public-boa
 rd-of-education-meeting-1-4
DTSTART:20240104T233000Z
DTEND:20240105T003000Z
END:VEVENT
END:VCALENDAR
