BEGIN:VCALENDAR
VERSION:2.0
PRODID:SchoolNow
CALSCALE:GREGORIAN
BEGIN:VEVENT
UID:2a1e5c14-b6d7-11ee-b687-0a58a9feac02
DTSTAMP:20240119T142933Z
SUMMARY:Board Ad Hoc Team Operations Manual Committee meeting (1/31)
LOCATION:Harriet Gibbons Student Services Center\, 75 Watervliet Ave.
URL;VALUE=URI:https://www.albanyschools.org/boe/calendar/5179132/board-ad-h
 oc-team-operations-manual-committee-meeting-1-31
DTSTART:20240131T223000Z
DTEND:20240201T003000Z
END:VEVENT
END:VCALENDAR
