BEGIN:VCALENDAR
VERSION:2.0
PRODID:SchoolNow
CALSCALE:GREGORIAN
BEGIN:VEVENT
UID:364808e0-bef3-11ee-b2de-024f51fb6897
DTSTAMP:20240129T221122Z
SUMMARY:Board of Education special meeting (1/31)
LOCATION:Harriet Gibbons Student Services Center\, 75 Watervliet Ave.
URL;VALUE=URI:https://www.albanyschools.org/boe/calendar/5227276/board-spec
 ial-meeting
DTSTART:20240131T230000Z
DTEND:20240201T010000Z
END:VEVENT
END:VCALENDAR
