BEGIN:VCALENDAR
VERSION:2.0
PRODID:SchoolNow
CALSCALE:GREGORIAN
BEGIN:VEVENT
UID:20a6e51e-c9c6-11ee-a16c-0a58a9feac02
DTSTAMP:20240212T164528Z
SUMMARY:Charter school public hearing
LOCATION:Harriet Gibbons Student Services Center\, 75 Watervliet Ave.\, Alb
 any 12206
URL;VALUE=URI:https://www.albanyschools.org/boe/calendar/5314376/charter-sc
 hool-public-hearing
DTSTART:20240215T223000Z
DTEND:20240215T230000Z
END:VEVENT
END:VCALENDAR
