BEGIN:VCALENDAR
VERSION:2.0
PRODID:SchoolNow
CALSCALE:GREGORIAN
BEGIN:VEVENT
UID:88927598-cc10-11ee-95d2-0a58a9feac02
DTSTAMP:20240215T144307Z
SUMMARY:Board of Education special meeting (2/26)
LOCATION:Harriet Gibbons Student Services Center\, 75 Watervliet Ave.
URL;VALUE=URI:https://www.albanyschools.org/boe/calendar/5333592/board-of-e
 ducation-special-meeting-2-26
DTSTART:20240226T233000Z
DTEND:20240227T013000Z
END:VEVENT
END:VCALENDAR
