BEGIN:VCALENDAR
VERSION:2.0
PRODID:SchoolNow
CALSCALE:GREGORIAN
BEGIN:VEVENT
UID:c48891e0-cc10-11ee-9e2d-0a58a9feac02
DTSTAMP:20240215T144448Z
SUMMARY:Board of Education special meeting (2/29)
LOCATION:Harriet Gibbons Student Services Center\, 75 Watervliet Ave.
URL;VALUE=URI:https://www.albanyschools.org/boe/calendar/5333593/board-of-e
 ducation-special-meeting-2-29
DTSTART:20240229T233000Z
DTEND:20240301T013000Z
END:VEVENT
END:VCALENDAR
