BEGIN:VCALENDAR
VERSION:2.0
PRODID:SchoolNow
CALSCALE:GREGORIAN
BEGIN:VEVENT
UID:5e3d1ec4-d01b-11ee-8e69-0a58a9feac02
DTSTAMP:20240221T195618Z
SUMMARY:Smart Schools public hearing
LOCATION:Harriet Gibbons Student Services Center\, 75 Watervliet Ave.\, Alb
 any 12206
URL;VALUE=URI:https://www.albanyschools.org/boe/calendar/5368428/smart-scho
 ols-public-hearing
DTSTART:20240307T223000Z
DTEND:20240307T230000Z
END:VEVENT
END:VCALENDAR
