BEGIN:VCALENDAR
VERSION:2.0
PRODID:SchoolNow
CALSCALE:GREGORIAN
BEGIN:VEVENT
UID:cc7828a2-d7fa-11ee-a12e-02949b714d75
DTSTAMP:20240301T183746Z
SUMMARY:Board Ad Hoc Stained Glass Window Committee meeting (3/5)
LOCATION:Harriet Gibbons Media Center\, 75 Watervliet Ave.
URL;VALUE=URI:https://www.albanyschools.org/boe/calendar/5440071/board-ad-h
 oc-stained-glass-window-committee-meeting-3-5
DTSTART:20240305T223000Z
DTEND:20240306T003000Z
END:VEVENT
END:VCALENDAR
