BEGIN:VCALENDAR
VERSION:2.0
PRODID:SchoolNow
CALSCALE:GREGORIAN
BEGIN:VEVENT
UID:f5aa75e0-d7fa-11ee-b04b-0a58a9feac02
DTSTAMP:20240402T181209Z
SUMMARY:CANCELLED Board Ad Hoc Stained Glass Window Committee meeting
URL;VALUE=URI:https://www.albanyschools.org/boe/calendar/5440073/board-ad-h
 oc-stained-glass-window-committee-meeting-4-2
DTSTART:20240402T213000Z
DTEND:20240402T233000Z
END:VEVENT
END:VCALENDAR
