BEGIN:VCALENDAR
VERSION:2.0
PRODID:SchoolNow
CALSCALE:GREGORIAN
BEGIN:VEVENT
UID:f4bd9e5a-da2f-11ee-9e2b-0a58a9feac02
DTSTAMP:20240304T140320Z
SUMMARY:Board Ad Hoc Stained Glass Window Committee meeting (3/19)
LOCATION:Harriet Gibbons Student Services Center\, 75 Watervliet Ave.\, Roo
 m 110a
URL;VALUE=URI:https://www.albanyschools.org/boe/calendar/5461270/board-ad-h
 oc-stained-glass-window-committee-meeting-3-19
DTSTART:20240319T213000Z
DTEND:20240319T233000Z
END:VEVENT
END:VCALENDAR
