BEGIN:VCALENDAR
VERSION:2.0
PRODID:SchoolNow
CALSCALE:GREGORIAN
BEGIN:VEVENT
UID:0f34891a-da30-11ee-bdf6-0a58a9feac02
DTSTAMP:20240304T140404Z
SUMMARY:Board Ad Hoc Stained Glass Window Committee meeting (4/16)
LOCATION:Harriet Gibbons Student Services Center\, 75 Watervliet Ave.\, Roo
 m 110a
URL;VALUE=URI:https://www.albanyschools.org/boe/calendar/5461271/board-ad-h
 oc-stained-glass-window-committee-meeting-4-16
DTSTART:20240416T213000Z
DTEND:20240416T233000Z
END:VEVENT
END:VCALENDAR
