BEGIN:VCALENDAR
VERSION:2.0
PRODID:SchoolNow
CALSCALE:GREGORIAN
BEGIN:VEVENT
UID:3254458e-da30-11ee-8907-0a58a9feac02
DTSTAMP:20240304T140503Z
SUMMARY:Board Audit/Finance Committee meeting (3/6)
LOCATION:Harriet Gibbons Student Services Center\, 75 Watervliet Ave.
URL;VALUE=URI:https://www.albanyschools.org/boe/calendar/5461272/board-audi
 t-finance-committee-meeting-3-6
DTSTART:20240306T223000Z
DTEND:20240307T003000Z
END:VEVENT
END:VCALENDAR
