BEGIN:VCALENDAR
VERSION:2.0
PRODID:SchoolNow
CALSCALE:GREGORIAN
BEGIN:VEVENT
UID:2686dbd2-dbec-11ee-b100-0ef0224654e7
DTSTAMP:20240306T191055Z
SUMMARY:Board of Education special meeting (4/15)
LOCATION:Harriet Gibbons Student Services Center\, 75 Watervliet Ave.
URL;VALUE=URI:https://www.albanyschools.org/boe/calendar/5480653/board-of-e
 ducation-special-meeting-4-15
DTSTART:20240415T213000Z
DTEND:20240415T221500Z
END:VEVENT
END:VCALENDAR
