BEGIN:VCALENDAR
VERSION:2.0
PRODID:SchoolNow
CALSCALE:GREGORIAN
BEGIN:VEVENT
UID:cfa71634-e176-11ee-b96b-0affff8f0041
DTSTAMP:20240313T201810Z
SUMMARY:Board Ad Hoc Routine Consent Committee meeting (4/1)
LOCATION:Harriet Gibbons Student Services Center\, 75 Watervliet Ave.
URL;VALUE=URI:https://www.albanyschools.org/boe/calendar/5536922/board-ad-h
 oc-routine-consent-committee-meeting-4-1
DTSTART:20240401T214500Z
DTEND:20240401T234500Z
END:VEVENT
END:VCALENDAR
