BEGIN:VCALENDAR
VERSION:2.0
PRODID:SchoolNow
CALSCALE:GREGORIAN
BEGIN:VEVENT
UID:55b3ae6e-e2d4-11ee-bff4-0affe19d36e3
DTSTAMP:20240729T171349Z
SUMMARY:Board Ad Hoc Routine Consent Committee meeting (7/1)
LOCATION:Harriet Gibbons Student Services Center\, 75 Watervliet Ave.
URL;VALUE=URI:https://www.albanyschools.org/boe/calendar/5550216/board-ad-h
 oc-routine-consent-committee-meeting-7-1
DTSTART:20240701T214500Z
DTEND:20240701T234500Z
END:VEVENT
END:VCALENDAR
