BEGIN:VCALENDAR
VERSION:2.0
PRODID:SchoolNow
CALSCALE:GREGORIAN
BEGIN:VEVENT
UID:54d670c4-f802-11ee-b2a1-0affdac7174f
DTSTAMP:20240411T125240Z
SUMMARY:Public hearing: Policy change (4/11)
URL;VALUE=URI:https://www.albanyschools.org/boe/calendar/5759156/public-hea
 ring-policy-change
DTSTART:20240411T213000Z
DTEND:20240411T223000Z
END:VEVENT
END:VCALENDAR
