BEGIN:VCALENDAR
VERSION:2.0
PRODID:SchoolNow
CALSCALE:GREGORIAN
BEGIN:VEVENT
UID:87dec218-023a-11ef-bb8c-0a58a9feac02
DTSTAMP:20240424T125948Z
SUMMARY:Board Audit/Finance Committee meeting (6/10)
LOCATION:Harriet Gibbons Student Services Center\, 75 Watervliet Ave.
URL;VALUE=URI:https://www.albanyschools.org/boe/calendar/5848268/board-audi
 t-finance-committee-meeting-6-10
DTSTART:20240610T213000Z
DTEND:20240610T233000Z
END:VEVENT
END:VCALENDAR
