BEGIN:VCALENDAR
VERSION:2.0
PRODID:SchoolNow
CALSCALE:GREGORIAN
BEGIN:VEVENT
UID:1522c6d0-071b-11ef-acfa-0affcfac6717
DTSTAMP:20240507T135705Z
SUMMARY:Budget Hearing
LOCATION:Harriet Gibbons Student Services Center\, 75 Watervliet Ave.
URL;VALUE=URI:https://www.albanyschools.org/boe/calendar/5888274/budget-hea
 ring
DTSTART:20240507T213000Z
DTEND:20240507T223000Z
END:VEVENT
END:VCALENDAR
