BEGIN:VCALENDAR
VERSION:2.0
PRODID:SchoolNow
CALSCALE:GREGORIAN
BEGIN:VEVENT
UID:527776de-24fd-11ef-b589-0afff22e0e15
DTSTAMP:20240607T183950Z
SUMMARY:Board Policy Committee meeting (6/17)
LOCATION:Harriet Gibbons Student Services Center\, 75 Watervliet Ave.
URL;VALUE=URI:https://www.albanyschools.org/boe/calendar/6092204/board-poli
 cy-committee-meeting-6-17
DTSTART:20240617T213000Z
DTEND:20240617T233000Z
END:VEVENT
END:VCALENDAR
