BEGIN:VCALENDAR
VERSION:2.0
PRODID:SchoolNow
CALSCALE:GREGORIAN
BEGIN:VEVENT
UID:ec66a05c-2cb0-11ef-b638-0a58a9feac02
DTSTAMP:20240617T140028Z
SUMMARY:Code of Conduct Public Hearing (6/20)
LOCATION:Harriet Gibbons Media Center\, 75 Watervliet Ave.
URL;VALUE=URI:https://www.albanyschools.org/boe/calendar/6134331/code-of-co
 nduct-public-hearing-6-20
DTSTART:20240620T210000Z
DTEND:20240620T220000Z
END:VEVENT
END:VCALENDAR
